BEGIN:VCALENDAR
VERSION:2.0
PRODID:-//wp-events-plugin.com//6.6.4.4//EN
BEGIN:VEVENT
UID:1@ethicsassociation.net
DTSTART:20140521T060000Z
DTEND:20140523T130000Z
DTSTAMP:20230901T095626Z
URL:https://ethicsassociation.net/events/international-conference-on-ethic
 s-education-in-ankara-turkey-2014/
SUMMARY:International Conference on Ethics Education in Ankara\, Turkey\, 2
 014
DESCRIPTION:http://www.iaee2014ankara.org\nAbstract submission deadline was
  extended till January 1st\, 2014
CATEGORIES:Past Events
LOCATION:Turkey\,     \, Ankara\, Middle East\, Turkey
X-APPLE-STRUCTURED-LOCATION;VALUE=URI;X-ADDRESS=    \, Ankara\, Middle East
 \, Turkey;X-APPLE-RADIUS=100;X-TITLE=Turkey:geo:0,0
END:VEVENT
END:VCALENDAR